BEGIN:VCALENDAR
PRODID:-//eluceo/ical//2.0/EN
VERSION:2.0
CALSCALE:GREGORIAN
BEGIN:VEVENT
UID:f6cbec1a3a7586bcf2752344890b08c9
DTSTAMP:20260421T135926Z
SUMMARY:Réunion Statutaire du RC Verviers 11-05-2026 Céline Pirson(Les pe
 tits pas de la grenouille): Présentation du w-e subsidié par notre club
DESCRIPTION:
URL:https://verviers.rotary2160.org/nl/agenda/show/95552
DTSTART;TZID=Europe/Zurich:20260511T123000
DTEND;TZID=Europe/Zurich:20260511T140000
LOCATION:Le Brévent\, route d´Oneux 77\, 4800  VERVIERS
CATEGORIES:Rotary
END:VEVENT
BEGIN:VTIMEZONE
TZID:Europe/Zurich
BEGIN:DAYLIGHT
DTSTART:20260511T123000
TZNAME:CEST
TZOFFSETTO:+0200
TZOFFSETFROM:+0200
END:DAYLIGHT
END:VTIMEZONE
END:VCALENDAR
