BEGIN:VCALENDAR
PRODID:-//eluceo/ical//2.0/EN
VERSION:2.0
CALSCALE:GREGORIAN
BEGIN:VEVENT
UID:c49357d33d0e4cb8be86fb2384fae3cc
DTSTAMP:20260421T140156Z
SUMMARY:Repas Exotique
DESCRIPTION:
URL:https://verviers.rotary2160.org/nl/agenda/show/95557
DTSTART;TZID=Europe/Zurich:20260620T190000
DTEND;TZID=Europe/Zurich:20260620T230000
LOCATION:TBD
CATEGORIES:Rotary
END:VEVENT
BEGIN:VTIMEZONE
TZID:Europe/Zurich
BEGIN:DAYLIGHT
DTSTART:20260620T190000
TZNAME:CEST
TZOFFSETTO:+0200
TZOFFSETFROM:+0200
END:DAYLIGHT
END:VTIMEZONE
END:VCALENDAR
